BEGIN:VCALENDAR
VERSION:2.0
PRODID:-//BCSSA - BC School Superintendents Association - ECPv6.15.20//NONSGML v1.0//EN
CALSCALE:GREGORIAN
METHOD:PUBLISH
X-WR-CALNAME:BCSSA - BC School Superintendents Association
X-ORIGINAL-URL:https://bcssa.org
X-WR-CALDESC:Events for BCSSA - BC School Superintendents Association
REFRESH-INTERVAL;VALUE=DURATION:PT1H
X-Robots-Tag:noindex
X-PUBLISHED-TTL:PT1H
BEGIN:VTIMEZONE
TZID:America/Vancouver
BEGIN:DAYLIGHT
TZOFFSETFROM:-0800
TZOFFSETTO:-0700
TZNAME:PDT
DTSTART:20250309T100000
END:DAYLIGHT
BEGIN:STANDARD
TZOFFSETFROM:-0700
TZOFFSETTO:-0800
TZNAME:PST
DTSTART:20251102T090000
END:STANDARD
BEGIN:DAYLIGHT
TZOFFSETFROM:-0800
TZOFFSETTO:-0700
TZNAME:PDT
DTSTART:20260308T100000
END:DAYLIGHT
BEGIN:STANDARD
TZOFFSETFROM:-0700
TZOFFSETTO:-0800
TZNAME:PST
DTSTART:20261101T090000
END:STANDARD
BEGIN:DAYLIGHT
TZOFFSETFROM:-0800
TZOFFSETTO:-0700
TZNAME:PDT
DTSTART:20270314T100000
END:DAYLIGHT
BEGIN:STANDARD
TZOFFSETFROM:-0700
TZOFFSETTO:-0800
TZNAME:PST
DTSTART:20271107T090000
END:STANDARD
END:VTIMEZONE
BEGIN:VEVENT
DTSTART;TZID=America/Vancouver:20260213T080000
DTEND;TZID=America/Vancouver:20260213T090000
DTSTAMP:20260422T093021
CREATED:20260110T004059Z
LAST-MODIFIED:20260406T203721Z
UID:5091-1770969600-1770973200@bcssa.org
SUMMARY:Virtual Learning session#7
DESCRIPTION:Session #7: Compassionate Systems through an Indigenous Lens\nCharity Peal\, Director\, BC Principals’ and Vice-Principals’ Association | Nisga’a School District (SD92) \nLearn more
URL:https://bcssa.org/event/virtual-learning-session7/
END:VEVENT
END:VCALENDAR